﻿BEGIN:VCALENDAR
VERSION:2.0
PRODID:-//Barley Commission - ECPv5.3.2.1//NONSGML v1.0//EN
CALSCALE:GREGORIAN
METHOD:PUBLISH
X-WR-CALNAME:Barley Commission
X-ORIGINAL-URL:https://barley.idaho.gov
X-WR-CALDESC:Events for Barley Commission
BEGIN:VTIMEZONE
TZID:America/Boise
BEGIN:DAYLIGHT
TZOFFSETFROM:-0700
TZOFFSETTO:-0600
TZNAME:MDT
DTSTART:20200308T090000
END:DAYLIGHT
BEGIN:STANDARD
TZOFFSETFROM:-0600
TZOFFSETTO:-0700
TZNAME:MST
DTSTART:20201101T080000
END:STANDARD
END:VTIMEZONE
BEGIN:VEVENT
DTSTART;VALUE=DATE:20200120
DTEND;VALUE=DATE:20200121
DTSTAMP:20210606T214002
CREATED:20190307T165108Z
LAST-MODIFIED:20190307T165108Z
UID:91-1579478400-1579564799@barley.idaho.gov
SUMMARY:Martin Luther King\, Jr. Day (closed)
DESCRIPTION:State holiday observed and we will be closed.
URL:https://barley.idaho.gov/event/martin-luther-king-jr-day/2020-01-20/
CATEGORIES:Holiday
END:VEVENT
END:VCALENDAR