﻿BEGIN:VCALENDAR
VERSION:2.0
PRODID:-//Barley Commission - ECPv5.3.2.1//NONSGML v1.0//EN
CALSCALE:GREGORIAN
METHOD:PUBLISH
X-WR-CALNAME:Barley Commission
X-ORIGINAL-URL:https://barley.idaho.gov
X-WR-CALDESC:Events for Barley Commission
BEGIN:VTIMEZONE
TZID:America/Boise
BEGIN:DAYLIGHT
TZOFFSETFROM:-0700
TZOFFSETTO:-0600
TZNAME:MDT
DTSTART:20190310T090000
END:DAYLIGHT
BEGIN:STANDARD
TZOFFSETFROM:-0600
TZOFFSETTO:-0700
TZNAME:MST
DTSTART:20191103T080000
END:STANDARD
END:VTIMEZONE
BEGIN:VEVENT
DTSTART;VALUE=DATE:20191014
DTEND;VALUE=DATE:20191015
DTSTAMP:20210606T213907
CREATED:20190307T165302Z
LAST-MODIFIED:20190307T165302Z
UID:65-1571011200-1571097599@barley.idaho.gov
SUMMARY:Columbus Day (closed)
DESCRIPTION:State holiday observed and we will be closed.
URL:https://barley.idaho.gov/event/columbus-day/2019-10-14/
CATEGORIES:Holiday
END:VEVENT
END:VCALENDAR