﻿BEGIN:VCALENDAR
VERSION:2.0
PRODID:-//Barley Commission - ECPv5.3.2.1//NONSGML v1.0//EN
CALSCALE:GREGORIAN
METHOD:PUBLISH
X-WR-CALNAME:Barley Commission
X-ORIGINAL-URL:https://barley.idaho.gov
X-WR-CALDESC:Events for Barley Commission
BEGIN:VTIMEZONE
TZID:America/Boise
BEGIN:DAYLIGHT
TZOFFSETFROM:-0700
TZOFFSETTO:-0600
TZNAME:MDT
DTSTART:20190310T090000
END:DAYLIGHT
BEGIN:STANDARD
TZOFFSETFROM:-0600
TZOFFSETTO:-0700
TZNAME:MST
DTSTART:20191103T080000
END:STANDARD
END:VTIMEZONE
BEGIN:VEVENT
DTSTART;VALUE=DATE:20191225
DTEND;VALUE=DATE:20191226
DTSTAMP:20210606T213919
CREATED:20190307T165409Z
LAST-MODIFIED:20190307T165409Z
UID:71-1577232000-1577318399@barley.idaho.gov
SUMMARY:Christmas (closed)
DESCRIPTION:State holiday observed and we will be closed.
URL:https://barley.idaho.gov/event/christmas/2019-12-25/
CATEGORIES:Holiday
END:VEVENT
END:VCALENDAR